BEGIN:VCALENDAR
VERSION:2.0
PRODID:-//360 Alumni//Providence Academy//EN
METHOD:REQUEST
BEGIN:VEVENT
UID:10465
DTSTAMP:20240124T233000Z
DTSTART:20240124T233000Z
DTEND:20240125T023000Z
LOCATION:The Palm Restaurant (Swissotel Chicago)
SUMMARY: 2nd Annual Chicago Alumni Dinner
DESCRIPTION: What: Providence Academy Alumni Dinner with Dr. Flanders and the Alumni TeamWhen:&nbsp;5:30-8:30 p.m. on Wednesday, January 24, 2024Where: The Palm Restaurant (Swissotel) ChicagoInviting all Providence Academy Alumni living in or near Chicago to join Dr. Flanders and Mrs. Sarah Hogan (Alumni Director) for a very special dinner. Reconnect with fellow alums, meet new PA alumni in your area and receive updates from your first Alma Mater.From Dr. Flanders: "Chicago area Lions! We are excited to host our second annual Chicago Alumni Dinner in in conjunction with my ISACS Heads Conference in Chicago. We are looking forward to seeing you soon!"Drinks/appetizers will start at 5:30pm at the Palm Restaurant, Swissotel Chicago. Please RSVP for yourself and a guest by January 19th.Know of others in the area? Encourage them to update their contact info. within this 360 Platform or contact Alumni Manager, Katarina Greenwood (katarina.greenwood@providenceacademy.org).
END:VEVENT
END:VCALENDAR
