BEGIN:VCALENDAR
VERSION:2.0
PRODID:-//360 Alumni//Providence Academy//EN
METHOD:REQUEST
BEGIN:VEVENT
UID:10464
DTSTAMP:20240103T202500Z
DTSTART:20240103T202500Z
DTEND:20240103T211500Z
LOCATION:Providence Academy
SUMMARY: Home from College Alumni Panel
DESCRIPTION: Calling all current undergrads to come back to PA and share your advice about the college transition with students!The Alumni Home from College Panel will take place January 3rd from 2:25-3:15pm in the PAC. Contact Sarah Hogan, Director of College Counseling &amp; Alumni Engagement at sarah.hogan@providenceacademy.org for more info.Alumni, SIGN UP to be a panelist here on PA Alumni360!
END:VEVENT
END:VCALENDAR
