BEGIN:VCALENDAR
VERSION:2.0
PRODID:-//360 Alumni//Providence Academy//EN
METHOD:REQUEST
BEGIN:VEVENT
UID:10463
DTSTAMP:20240104T213000Z
DTSTART:20240104T213000Z
DTEND:20240104T223000Z
LOCATION:Providence Academy
SUMMARY: Alumni in STEM Panel for the PA Robotics Club
DESCRIPTION: Share your advice and expertise from working in STEM fields with current students on the Providence Academy Robotics Team! Students really appreciate connecting with alumni working in fields they aspire to work in!The Panel will be January 5th from 3:30-4:30pm.
END:VEVENT
END:VCALENDAR
