BEGIN:VCALENDAR
VERSION:2.0
PRODID:-//360 Alumni//Providence Academy//EN
METHOD:REQUEST
BEGIN:VEVENT
UID:10442
DTSTAMP:20231212T202000Z
DTSTART:20231212T202000Z
DTEND:20231212T211500Z
LOCATION:Lecture Hall, Providence Academy
SUMMARY: The Counter-Cultural Courage to Be Alone with Christ
DESCRIPTION: Announcing the third of Sister Amelia's three-part series titled "Solitude and Self-Knowledge&nbsp;&mdash; The Counter-Cultural Courage to Be Alone with Christ".&nbsp;Tuesday December 12th from 2:20-3:15pmThe second session is still coming up as well! Join us November 28th to ponder "How Intellectual Formation can Strengthen your Family" ~ More information here!This three lecture series will cover various aspects of interior freedom, peace and joy. They are open to the entire PA community (including current families, alumni, parents of alumni and other friends of the school) and&nbsp;will be held in the Upper School Lecture Hall.&nbsp;Sister is a wise and dynamic speaker; these are sure to be uplifting&nbsp;and insightful afternoons!&nbsp;Sr. Amelia is a member of the Dominican Sisters of St. Cecilia (Nashville, TN) and serves with our school&rsquo;s Spiritual Formation Team. She has taught grades 6-12 Religion, Spanish, and History. Sister loves helping students to grapple intelligently with the questions of our day through the use of Moral Theology and Catholic Social Teaching. She holds a BA in International Affairs and Global Health from The George Washington University in DC; an MA in Thomistic Studies from the Pontifical Faculty of the Immaculate Conception in DC; and teaching credentials from Aquinas College in Nashville.
END:VEVENT
END:VCALENDAR
