BEGIN:VCALENDAR
VERSION:2.0
PRODID:-//360 Alumni//Providence Academy//EN
METHOD:REQUEST
BEGIN:VEVENT
UID:10430
DTSTAMP:20231221T000000Z
DTSTART:20231221T000000Z
DTEND:20231221T033000Z
LOCATION:Great Room, Providence Academy
SUMMARY: 10th Annual Alumni Christmas Party
DESCRIPTION: 'Tis the Season! Providence's annual Alumni Christmas party is back! In addition to delicious food and drink, this year's party will include various casino game tables with opportunities to win raffle prizes. As always, there is no cost to play/attend. It will be a delightful evening of reconnecting and reminiscing with former classmates and faculty, hot and cold hors d'oeuvres, Dr. Flanders's Cigar Patio,&nbsp;and games all in the Great Room decked for Christmas!Wednesday December 20th 6:00-9:30pmCasino Games 6:30-9:00pmRaffle Drawings at 9:15pmSpread the word and R.S.V.P. for yourself and a guest by December 19th.Hope to see you there! -Your Event Hosts (Mrs. Hogan and Ms. Greenwood)Contact Katarina Greenwood (katarina.greenwood@providenceacademy.org) with questions!
END:VEVENT
END:VCALENDAR
