BEGIN:VCALENDAR
VERSION:2.0
PRODID:-//360 Alumni//Providence Academy//EN
METHOD:REQUEST
BEGIN:VEVENT
UID:10428
DTSTAMP:20231222T230000Z
DTSTART:20231222T230000Z
DTEND:20231223T010000Z
LOCATION:Plymouth Ice Center  - Rink C
SUMMARY: Annual Alumni Hockey Game
DESCRIPTION: Get ready for the Annual PA Alumni Hockey Game!Join fellow PA hockey alumni for a fun pick up game and bring your family to watch in the stands.Friday December 22nd 2023 at 6:00pmWe have ice from 5:00-7:00pm however the game will start at 6:00pm at PIC C&nbsp;Please RSVP on Alumni360 and contact Cari Doucette with&nbsp;questions&nbsp;at 763-442-4484 or&nbsp;caridoucette@yahoo.com
END:VEVENT
END:VCALENDAR
