BEGIN:VCALENDAR
VERSION:2.0
PRODID:-//360 Alumni//Providence Academy//EN
METHOD:REQUEST
BEGIN:VEVENT
UID:10362
DTSTAMP:20231128T201500Z
DTSTART:20231128T201500Z
DTEND:20231128T211500Z
LOCATION:Upper School Lecture Hall
SUMMARY: How Intellectual Formation Can Strengthen Your Family
DESCRIPTION: &nbsp;The second of Sister Amelia's three-part series is titled "Learning Like Brothers and Sisters &mdash; How Intellectual Formation Can Strengthen Your Family".&nbsp;Tuesday November&nbsp;28th from 2:20-3:15pm&nbsp;This three lecture series will cover various aspects of interior freedom, peace and joy. They are open to the entire PA community (including current families, alumni, parents of alumni and other friends of the school) and&nbsp;will be held in the Upper School Lecture Hall.&nbsp;Sister is a wise and dynamic speaker; these are sure to be uplifting&nbsp;and insightful afternoons!&nbsp;Sr. Amelia is a member of the Dominican Sisters of St. Cecilia (Nashville, TN) and serves with our school&rsquo;s Spiritual Formation Team. She has taught grades 6-12 Religion, Spanish, and History. Sister loves helping students to grapple intelligently with the questions of our day through the use of Moral Theology and Catholic Social Teaching. She holds a BA in International Affairs and Global Health from The George Washington University in DC; an MA in Thomistic Studies from the Pontifical Faculty of the Immaculate Conception in DC; and teaching credentials from Aquinas College in Nashville.
END:VEVENT
END:VCALENDAR
