BEGIN:VCALENDAR
VERSION:2.0
PRODID:-//360 Alumni//Providence Academy//EN
METHOD:REQUEST
BEGIN:VEVENT
UID:10329
DTSTAMP:20231102T230000Z
DTSTART:20231102T230000Z
DTEND:20231102T230000Z
LOCATION:Spaghetti Works
SUMMARY: Alumni Dinner in Omaha
DESCRIPTION: We're coming to Omaha! We are excited to host a dinner in Omaha for our alumni at Creighton University and the surrounding area. This will also be a chance for current PA students to tour the campus and connect with recent grads currently at Creighton.Spaghetti Works, Old Market, OmahaThursday November 2nd&nbsp; at 6:00pmContact Katarina Greenwood with questions or to R.S.V.P. (katarina.greenwood@providenceacademy.org)
END:VEVENT
END:VCALENDAR
