BEGIN:VCALENDAR
VERSION:2.0
PRODID:-//360 Alumni//Providence Academy//EN
METHOD:REQUEST
BEGIN:VEVENT
UID:10322
DTSTAMP:20231031T191500Z
DTSTART:20231031T191500Z
DTEND:20231031T201500Z
LOCATION:Upper School Lecture Hall, Providence Academy
SUMMARY: Tuesday Talks with Sister Amelia O.P. ~ Asceticism in our Modern Lives
DESCRIPTION: We are excited to announce that PA's Sister Amelia O.P. will offer a three lecture series on various aspects of interior freedom, peace and joy. These lectures are open to the entire PA community including current parents, alumni, parents of alumni and other friends of the school. Sister is a wise and dynamic speaker; these are sure to be uplifting&nbsp;and insightful afternoons!&nbsp;The events will be held in the Upper School Lecture Hall from 2:20-3:15pm on the following Tuesdays:October 31: From the Desert to the &lsquo;Burbs &mdash; Can Old Ascetic Practices Help Our Busy Lives?November 28: Learning Like Brothers and Sisters &mdash; How Intellectual Formation Can Strengthen Your FamilyDecember 12: Solitude and Self-Knowledge &mdash; The Counter-Cultural Courage to Be Alone with ChristSr. Amelia is a member of the Dominican Sisters of St. Cecilia (Nashville, TN) and serves with our school&rsquo;s Spiritual Formation Team. She has taught grades 6-12 Religion, Spanish, and History. Sister loves helping students to grapple intelligently with the questions of our day through the use of Moral Theology and Catholic Social Teaching. She holds a BA in International Affairs and Global Health from The George Washington University in DC; an MA in Thomistic Studies from the Pontifical Faculty of the Immaculate Conception in DC; and teaching credentials from Aquinas College in Nashville.
END:VEVENT
END:VCALENDAR
