BEGIN:VCALENDAR
VERSION:2.0
PRODID:-//360 Alumni//Providence Academy//EN
METHOD:REQUEST
BEGIN:VEVENT
UID:10313
DTSTAMP:20231006T230000Z
DTSTART:20231006T230000Z
DTEND:20231007T003000Z
LOCATION:Sitzmann  Hall, University of St Thomas
SUMMARY: Prayer & Pizza with the Nashville Dominicans
DESCRIPTION: An invitation on behalf of Sister Amelia to all young adult women in the alumni community and beyond to join the Nashville Dominicans for an evening of pizza, prayer and fellowship!Friday October 6th 6-7:30pm at Sitzmann Hall at the University of St Thomas We are thrilled to have Sister Amelia O.P. as part of our team at Providence Academy! Learn more about the Dominican life and charisms here.R.S.V.P. by emailing Stillwater@OP-TN.org
END:VEVENT
END:VCALENDAR
