BEGIN:VCALENDAR
VERSION:2.0
PRODID:-//360 Alumni//Providence Academy//EN
METHOD:REQUEST
BEGIN:VEVENT
UID:10278
DTSTAMP:20230922T233000Z
DTSTART:20230922T233000Z
DTEND:20230923T004500Z
LOCATION:Mithun Field, Providence Academy
SUMMARY: PA Homecoming Game & Vintage Jersey Sales
DESCRIPTION: Pumpkin spice, crisp fall air, and PA homecoming - its that time of year again!Stop by the alumni table at PA's homecoming game for some Providence giveaways and shop the vintage jersey sale. We will be selling jerseys from a number of men's &amp; women's sports for between $15-$25. This was a very popular sale last year - snag one quickly because&nbsp;we might run out!Football Game 7:00pmAlumni Tent with Vintage Jersey Sales 6:30-halftime
END:VEVENT
END:VCALENDAR
