BEGIN:VCALENDAR
VERSION:2.0
PRODID:-//360 Alumni//Providence Academy//EN
METHOD:REQUEST
BEGIN:VEVENT
UID:10267
DTSTAMP:20231015T213000Z
DTSTART:20231015T213000Z
DTEND:20231015T213000Z
LOCATION:Old Ebbitt Grill
SUMMARY: Alumni Dinner ~ Washington D.C.
DESCRIPTION: Inviting all alumni living or studying in the D.C. area to join Mrs. Sarah Hogan and Mrs. Angela Jendro (Ms. Lambert)&nbsp;for a dinner to reconnect and reminisce!Sunday October 15th at 5:30pmOld Ebbitt Grill (near the White House)Contact Katarina Greenwood with any questions or to R.S.V.P.! (katarina.greenwood@providenceacademy.org)
END:VEVENT
END:VCALENDAR
