BEGIN:VCALENDAR
VERSION:2.0
PRODID:-//360 Alumni//Providence Academy//EN
METHOD:REQUEST
BEGIN:VEVENT
UID:10256
DTSTAMP:20230921T233000Z
DTSTART:20230921T233000Z
DTEND:20230922T010000Z
LOCATION:Upper School Art Studio, Providence Academy
SUMMARY: Holy Happy Hour with Dr. Michael P. Foley
DESCRIPTION: Dr. Flanders and the Alumni Office invite all PA alumni and their parents back to campus for a special Homecoming Week event:&nbsp;We are pleased to welcome back to campus past commencement speaker and bestselling author of Drinking with the Saints,&nbsp; Dr. Michael P. Foley, professor in the Honors College at Baylor University. We invite you to join us for a "holy happy hour" based on his newest Catholic book,&nbsp; Dining With Saints: The Sinner&rsquo;s Guide to a Righteous Feast.&nbsp;The event will be held in the Upper School Atrium on Thursday, September 21, from 6:30-8:00 p.m. It will feature appetizers and beverages, featuring a classic Income Tax cocktail in celebration of the feast day of St. Matthew. Dr. Foley will give a brief talk about his new book with the opportunity for the first dozen alumni/alumni parent registrants to obtain a complimentary, personally signed copy.Please RSVP for the event on our 360 Alumni site. Questions? Contact Mrs. Sarah Hogan (Director of College &amp; Alumni Engagement) or Ms. Katarina Greenwood (Alumni Manager).&nbsp;
END:VEVENT
END:VCALENDAR
