BEGIN:VCALENDAR
VERSION:2.0
PRODID:-//360 Alumni//Providence Academy//EN
METHOD:REQUEST
BEGIN:VEVENT
UID:10187
DTSTAMP:20231009T233000Z
DTSTART:20231009T233000Z
DTEND:20231009T233000Z
LOCATION:Adam Schmalzbauer's Classroom, Providence Academy
SUMMARY: Alumni Book Club with Mr. Schmalzbauer - Homer's Odyssey
DESCRIPTION: After wrapping up our academic year with&nbsp;The Gambler&nbsp;by Dostoyevsky, we decided to adjust the format of Alumni Book Club slightly. From now on we will meet 2-3 times in the academic year, hopefully with enough months and large holidays in between that we can read larger works of literature.&nbsp;Adam has mentioned that he reads Homer's&nbsp;Odysseyevery summer,&nbsp;so we thought we would join him in the endeavor and reconvene in October to discuss this iconic epic poem.&nbsp;If you've ever read the&nbsp;Odyssey&nbsp;or want to finish reading it after high school, now is your chance! Bring any translation you like as it will add to the discussion!&nbsp;We will meet again on October 9th, 2023 at 6:30pm in person and&nbsp;online.&nbsp;We'd love to see you there. If you left your last copy in a cave somewhere here is a&nbsp;full pdf, and if you're just looking for highlights with pictures to show your eager son, here's a&nbsp;highlight pdf!&nbsp;
END:VEVENT
END:VCALENDAR
