BEGIN:VCALENDAR
VERSION:2.0
PRODID:-//360 Alumni//Providence Academy//EN
METHOD:REQUEST
BEGIN:VEVENT
UID:10181
DTSTAMP:20230801T140000Z
DTSTART:20230801T140000Z
DTEND:20230801T170000Z
LOCATION:Upper School Classroom, Providence Academy
SUMMARY: Interview Session of the College Application Bootcamp
DESCRIPTION: The College Counseling Department hosts an annual College Application Bootcamp for incoming seniors. Typically, the Interview Etiquette Session has been led by a few alumni, which students really appreciate, so we'd like to continue this tradition this year!The interview session will be from 9am-12pm Tuesday August 1st.Feel free also to stay for a pizza lunch or join in for the Alumni Lunch Forum where recent graduates share advice pertaining to the college application&nbsp;process.Please email katarina.greenwood@providenceacademy.org if you're interested in helping lead the Interview Session.
END:VEVENT
END:VCALENDAR
