BEGIN:VCALENDAR
VERSION:2.0
PRODID:-//360 Alumni//Providence Academy//EN
METHOD:REQUEST
BEGIN:VEVENT
UID:10180
DTSTAMP:20230801T170000Z
DTSTART:20230801T170000Z
DTEND:20230801T175000Z
LOCATION:Lecture Hall - Providence Academy
SUMMARY: Alumni Panel - College Application Bootcamp
DESCRIPTION: Calling all college-aged alumni - please join us for an Alumni Forum as part of College Application Bootcamp. We're looking for recent graduates to share your well-earned wisdom pertaining to the college search, application process and choosing a college, with current students.The Alumni Forum will take place over lunch (Davanni's Pizza) Tuesday August 1st in the Lecture Hall.If interested, please sign up on 360 or contact Katarina Greenwood, Manager of Alumni Engagement at Katarina.greenwood@providenceacademy.orgThank you for your consideration!
END:VEVENT
END:VCALENDAR
