BEGIN:VCALENDAR
VERSION:2.0
PRODID:-//360 Alumni//Providence Academy//EN
METHOD:REQUEST
BEGIN:VEVENT
UID:10143
DTSTAMP:20230815T180000Z
DTSTART:20230815T180000Z
DTEND:20230816T020000Z
LOCATION:Brookview Golf Course
SUMMARY: Alumni Council Golf Event & Taco Bar Dinner
DESCRIPTION: The Providence Academy Alumni Council is hosting our inaugural Alumni Golf Event at Brookview Course August 15th.Golf 9 or 18 holes (w/ a cart) then enjoy yard games and dinner.18-hole tee times: every 10 minutes between 1-2pm9-hole tee times: 3:00, 3:10, 3:20Yard Games and Drinks: 5:30Dinner 7:00pm&nbsp;Pricing:$50 - 9 holes, dinner &amp; drinks$70 - 18 holes, dinner &amp; drinks$20 - dinner only$25 - golf only - 9 holes$45 - golf only - 18 holes&nbsp;RSVP by August 13thContact Katarina.greenwood@providenceacademy.org with questions
END:VEVENT
END:VCALENDAR
