BEGIN:VCALENDAR
VERSION:2.0
PRODID:-//360 Alumni//Providence Academy//EN
METHOD:REQUEST
BEGIN:VEVENT
UID:10112
DTSTAMP:20230824T180000Z
DTSTART:20230824T180000Z
DTEND:20230824T200000Z
LOCATION:Birches on the Lake
SUMMARY: 2012 & 2013 Providence Academy 10 Year Reunion
DESCRIPTION: Inviting all 2012 &amp; 2013 PA graduates to your 10 year reunion! Come and join your old classmates for a drink, apps and games Thursday August 24th at Birches from 6-8pm.Please RSVP for yourself and a guest.(RSVP not required to attend)Please reach out to Katarina Greenwood, Manager of Alumni Engagement with questions.
END:VEVENT
END:VCALENDAR
