BEGIN:VCALENDAR
VERSION:2.0
PRODID:-//360 Alumni//Providence Academy//EN
METHOD:REQUEST
BEGIN:VEVENT
UID:10103
DTSTAMP:20230526T173000Z
DTSTART:20230526T173000Z
DTEND:20230526T173000Z
LOCATION:Providence Academy
SUMMARY: Lunch at PA by Chef Marshall Morris
DESCRIPTION: Craving a good PA meal after a long semester of college food? Stop by PA to enjoy a complimentary lunch prepared by Chef Morris and reconnect with your favorite teachers before summer break!Check in at the Security Desk and join us in the Great Room (northwest corner) at 12:30 on Thursday May 25th or Friday May 26th.Please RSVP by May 24th for a numbers estimate for Marshall's team.
END:VEVENT
END:VCALENDAR
