BEGIN:VCALENDAR
VERSION:2.0
PRODID:-//360 Alumni//Providence Academy//EN
METHOD:REQUEST
BEGIN:VEVENT
UID:10102
DTSTAMP:20230722T160000Z
DTSTART:20230722T160000Z
DTEND:20230722T173000Z
LOCATION:Cafe 13
SUMMARY: Alumni Meet Up in Denver
DESCRIPTION: Inviting all Denver-area Providence Alumni to join Mrs. Sarah Hogan, Director of College Counseling &amp; Alumni Engagement, for an alumni brunch. Enjoy hearing PA updates (11 new classrooms, anyone?) and connecting with fellow alums over casual brunch between 10:00-11:30 a.m. Saturday July 22nd.Please RSVP for yourself and a guest by July 20th.Know of others in the area? Encourage them to update their contact info. within this 360 Platform or contact Katarina Greenwood (katarina.greenwood@providenceacademy.org).
END:VEVENT
END:VCALENDAR
