BEGIN:VCALENDAR
VERSION:2.0
PRODID:-//360 Alumni//Providence Academy//EN
METHOD:REQUEST
BEGIN:VEVENT
UID:10032
DTSTAMP:20230602T201500Z
DTSTART:20230602T201500Z
DTEND:20230602T223000Z
LOCATION:Basilica of Saint Mary
SUMMARY: Join the Choir for the 2023 Baccalaureate Mass
DESCRIPTION: Providence Academy would be honored for alumni to support the graduating class of 2023 by singing with the Upper School Choir at the Baccalaureate Mass.Mass starts at 4:00pm and the choir will start performing around 3:45pm. Alumni should arrive at the Basilica between&nbsp; 2:15pm and 2:45pm to warm up and get settled with the rest of the choir before Mass.&nbsp;If you are able to join the choir for the Baccalaureate Mass, please plan to attend at least one choir rehearsal prior to celebrating Mass. Contact our Middle and Upper School Choir Director, Ms. Kelsey Wessels '13, if you will be joining the choir June 2nd and with any questions you may have.We would love to welcome any alumni singing at Mass to the&nbsp;Alumni Reception with the Board of Directors&nbsp;after Mass at Blvd Kitchen!
END:VEVENT
END:VCALENDAR
