BEGIN:VCALENDAR
VERSION:2.0
PRODID:-//360 Alumni//Providence Academy//EN
METHOD:REQUEST
BEGIN:VEVENT
UID:10031
DTSTAMP:20230507T173000Z
DTSTART:20230507T173000Z
DTEND:20230507T173000Z
LOCATION:Providence Academy Board Room
SUMMARY: Faith, Knowledge, Virtue Brunch
DESCRIPTION: You are invited to special brunch to bring together Providence's Faith, Knowledge, Virtue recipients over the years.Enjoy updates from Mrs. Sarah Hogan, a visit to your alma mater and a chance to reconnect with other distinguished alumni.We will enjoy brunch in the Providence Academy Board Room from 12:30-1:30pm CST Sunday May 7th. You are also invited to stay for the final performance of The Music Man at 2pm.&nbsp;Feel free to bring your little ones as well! Please RSVP with the number of children and adults in your party by May 3rd. Email&nbsp;Katarina Greenwood&nbsp;with any questions.
END:VEVENT
END:VCALENDAR
