BEGIN:VCALENDAR
VERSION:2.0
PRODID:-//360 Alumni//Providence Academy//EN
METHOD:REQUEST
BEGIN:VEVENT
UID:10030
DTSTAMP:20230602T171500Z
DTSTART:20230602T171500Z
DTEND:20230602T190000Z
LOCATION:Blvd Kitchen & Bar
SUMMARY: Alumni Reception with Members of the Board of Directors
DESCRIPTION: &nbsp;Please join Dr. Flanders, members of the Board of Directors, founding-era faulty, and the Alumni Office&nbsp;for an appetizer reception on Friday, June 2nd. We will celebrate the many ways Providence alumni have shared their time and talents with our community and&nbsp;honor our 2023 commencement speaker Mr. Mark Mulvahill '08. Enjoy heavy hors d'oeuvres and beverages at Blvd Kitchen Friday June 2nd at 5:15pm, between the Baccalaureate Mass and Graduation ceremony.We are so grateful for the many ways alumni have shared their talents, including but not limited to serving on the Alumni Leadership Council, participating in career forums, coordinating events, and providing students with mentorship opportunities. Providence truly wouldn't be the special place that it is without our alumni.Please RSVP&nbsp;for yourself and a guest here on Alumni360 or by emailing katarina.greenwood@providenceacademy.org .&nbsp;
END:VEVENT
END:VCALENDAR
