BEGIN:VCALENDAR
VERSION:2.0
PRODID:-//360 Alumni//Providence Academy//EN
METHOD:REQUEST
BEGIN:VEVENT
UID:10029
DTSTAMP:20230427T230000Z
DTSTART:20230427T230000Z
DTEND:20230427T230000Z
LOCATION:Providence Academy Board Room
SUMMARY: Alumni  Council Meeting
DESCRIPTION: Inviting all alumni who would like to be more involved to our next Alumni Leadership Council Meeting Thursday April 27th. This will be a dinner meeting in the Providence Academy Board Room at 6pm.Contact Katarina Greenwood at Katarina.Greenwood@ProvidenceAcademy.org for more information.
END:VEVENT
END:VCALENDAR
