BEGIN:VCALENDAR
VERSION:2.0
PRODID:-//360 Alumni//Providence Academy//EN
METHOD:REQUEST
BEGIN:VEVENT
UID:10020
DTSTAMP:20230411T233000Z
DTSTART:20230411T233000Z
DTEND:20230411T233000Z
LOCATION:Adam Schmalzbauer's Room, Providence Academy
SUMMARY: April Alumni Book Club - Dostoyevsky's The Gambler
DESCRIPTION: Join us April 11th at 6:30pm to discuss Fyodor Dostoyevsky's short novel&nbsp;The Gambler.&nbsp;At a tight ~150 pages it should be a quick&nbsp;read and a good gamble if you haven't joined us yet this&nbsp;year.&nbsp;&nbsp;As always you can read the pdf&nbsp;here&nbsp;if you don't have a copy at home! Celebrate Easter with a roll of the die and a tale of love, loss, and playing the odds of fate.Spread the word and don't hesitate to join remotely if your schedule or location would keep you from joining in person!
END:VEVENT
END:VCALENDAR
