BEGIN:VCALENDAR
VERSION:2.0
PRODID:-//360 Alumni//Providence Academy//EN
METHOD:REQUEST
BEGIN:VEVENT
UID:10016
DTSTAMP:20230506T230000Z
DTSTART:20230506T230000Z
DTEND:20230506T230000Z
LOCATION:Providence Academy
SUMMARY: Alumni Reception Prior to Spring Musical - The Music Man
DESCRIPTION: Inviting all alumni for an appetizer reception in the Middle School Cloister at 6pm before the Upper School Spring Musical at 7pm. Reminisce on past musicals and catch up with fellow fine arts enthusiasts before enjoying this year's musical - The Music Man!Registering for a "free ticket" on this page, will register you for the appetizer reception and the performance. We will comp alumni tickets to the musical.
END:VEVENT
END:VCALENDAR
